BEGIN:VCALENDAR
VERSION:2.0
PRODID:-//Cultura Catarina - ECPv6.15.20//NONSGML v1.0//EN
CALSCALE:GREGORIAN
METHOD:PUBLISH
X-ORIGINAL-URL:https://culturacatarina.com.br
X-WR-CALDESC:Eventos para Cultura Catarina
REFRESH-INTERVAL;VALUE=DURATION:PT1H
X-Robots-Tag:noindex
X-PUBLISHED-TTL:PT1H
BEGIN:VTIMEZONE
TZID:America/Sao_Paulo
BEGIN:STANDARD
TZOFFSETFROM:-0300
TZOFFSETTO:-0300
TZNAME:-03
DTSTART:20240101T000000
END:STANDARD
END:VTIMEZONE
BEGIN:VEVENT
DTSTART;TZID=America/Sao_Paulo:20250412T100000
DTEND;TZID=America/Sao_Paulo:20250412T160000
DTSTAMP:20260422T024822
CREATED:20250331T183631Z
LAST-MODIFIED:20250331T214925Z
UID:2365-1744452000-1744473600@culturacatarina.com.br
SUMMARY:Feira do Engenho - Edição de Páscoa
DESCRIPTION:
URL:https://culturacatarina.com.br/agenda/feira-do-engenho-edicao-de-pascoa/
LOCATION:Museu Comunitário Engenho do Sertão\, Rua Abacate\, 452\, Sertãozinho\, Bombinhas\, Santa Catarina\, 88215-000\, Brazil
CATEGORIES:Eventos
END:VEVENT
END:VCALENDAR