BEGIN:VCALENDAR
VERSION:2.0
PRODID:-//Cultura Catarina - ECPv6.15.20//NONSGML v1.0//EN
CALSCALE:GREGORIAN
METHOD:PUBLISH
X-WR-CALNAME:Cultura Catarina
X-ORIGINAL-URL:https://culturacatarina.com.br
X-WR-CALDESC:Eventos para Cultura Catarina
REFRESH-INTERVAL;VALUE=DURATION:PT1H
X-Robots-Tag:noindex
X-PUBLISHED-TTL:PT1H
BEGIN:VTIMEZONE
TZID:America/Sao_Paulo
BEGIN:STANDARD
TZOFFSETFROM:-0300
TZOFFSETTO:-0300
TZNAME:-03
DTSTART:20250101T000000
END:STANDARD
END:VTIMEZONE
BEGIN:VEVENT
DTSTART;TZID=America/Sao_Paulo:20260306T140000
DTEND;TZID=America/Sao_Paulo:20260306T200000
DTSTAMP:20260419T153052
CREATED:20260302T012911Z
LAST-MODIFIED:20260302T013434Z
UID:20612-1772805600-1772827200@culturacatarina.com.br
SUMMARY:Festival celebra 9 anos do Projeto Samba de Terreiro com atrações históricas do samba carioca em Florianópolis
DESCRIPTION:No dia 6 de março\, a capital catarinense será palco do Festival 9 Anos do Projeto Samba de Terreiro\, que marca quase uma década de pesquisa\, preservação e difusão da memória do samba na cidade. A programação terá como destaque especial as participações da cantora carioca Dorina e do sambista Jorginho do Império\, referência histórica do Império Serrano. \nCriado em 2017 a partir do encontro entre músicos\, pesquisadores e integrantes da Velha Guarda da Escola de Samba Copa Lord\, o projeto consolidou-se como um dos principais movimentos de valorização do samba de terreiro em Santa Catarina. \nPatrimônio vivo\nAo longo dos nove anos\, o projeto revisitou obras da pioneira Deixa Falar e clássicos da Estação Primeira de Mangueira\, Portela e Acadêmicos do Salgueiro\, além de sambas históricos das primeiras escolas de Florianópolis. \nEntre os marcos da trajetória estão o álbum Samba de Terreiro de Florianópolis\, disponível nas plataformas digitais\, e o Almanaque do Samba de Terreiro\, publicação que reúne parte da pesquisa histórica desenvolvida. \nIntercâmbio com o Rio de Janeiro\nDiretamente do Rio\, Dorina participa da roda de conversa: “O protagonismo das mulheres pastoras no samba” e integra a grande roda de samba do festival. Já Jorginho do Império conduz o encontro: “Sambas de terreiro do Império Serrano”\, compartilhando vivências e histórias da tradição imperiana. \nA presença dos convidados fortalece o intercâmbio cultural entre Florianópolis e o berço das escolas de samba\, aproximando o público local das matrizes do samba de terreiro.  \nO festival de aniversário reafirma o compromisso do Projeto Samba de Terreiro com a preservação da memória do samba em Florianópolis\, celebrando não apenas uma trajetória artística\, mas também a continuidade de uma tradição que permanece viva através da comunidade.  \nCelebrar os 9 anos do Projeto Samba de Terreiro é\, portanto\, celebrar a continuidade de uma tradição\, o reconhecimento da memória cultural da cidade e a valorização do samba como patrimônio vivo. \n  \nPROGRAMAÇÃO \n14h – Inscrição prévia – Apresentação: “As Pastorinhas do Samba de Florianópolis”\, vão abrir os trabalhos na tarde de sexta\, trazendo em forma de canções um pouco do clima e das temáticas que iremos conversar ao longo do dia. \n14h30 – Inscrição prévia – Roda de conversa: “O protagonismo das mulheres pastoras no samba”\, Jandira Souza juntamente de Dorina (RJ)\, Jaque Cardoso (Co-escritora dos Almanaques do SdT) e Aline Natureza (Escritora do livro S´embora\, gente\, vamos de samba!) vão refletir sobre o papel e o espaço das mulheres no samba desde antigamente aos dias de hoje. \n16h – Inscrição prévia – Roda de Conversa: “Sambas de terreiro do Império Serrano”\, Jorginho do Império\, com mediação de Akin Reis e Carlos Raulino\, através do seu percurso no samba e na Império Serrano vai nos transportar aos tempos áureos do panteão imperiano\, nos contando causos e personagens do lugar.  \n18h – Aberto ao público – Roda de Samba do Projeto\, juntamente aos convidados do dia\, Dorina e Jorginho do Império\, celebrando antigos sambas das escolas do Rio de Janeiro e Florianópolis. \n📍 Data: 06 de março\, a partir das 14h\n📍 Local: Bugio Centro – Rua Victor Meirelles\, 112 (Florianópolis/SC)\n💰 Inscrição: R$50 (com possibilidade de bolsa)\n🗓 Inscrições até 23/02 \n  \nAssessoria de Imprensa e Comunicações: Ani Castrellón Castillo – Produz e Comunica – Instagram: @anicastrellon \nFotografia: Sabrina Stahelin – Instagram: Sabrinastahelinfotografia
URL:https://culturacatarina.com.br/agenda/festival-celebra-9-anos-do-projeto-samba-de-terreiro-com-atracoes-historicas-do-samba-carioca-em-florianopolis/
LOCATION:Largo da Antonieta – Av Vítor Meirelles\, avenida Vítor Meireles\, Florianópolis\, SANTA CATARINA\, Brazil
CATEGORIES:Eventos
ATTACH;FMTTYPE=image/jpeg:https://culturacatarina.com.br/wp-content/uploads/2026/03/thumbnail.jpg
END:VEVENT
END:VCALENDAR