BEGIN:VCALENDAR
VERSION:2.0
PRODID:-//Cultura Catarina - ECPv6.15.20//NONSGML v1.0//EN
CALSCALE:GREGORIAN
METHOD:PUBLISH
X-ORIGINAL-URL:https://culturacatarina.com.br
X-WR-CALDESC:Eventos para Cultura Catarina
REFRESH-INTERVAL;VALUE=DURATION:PT1H
X-Robots-Tag:noindex
X-PUBLISHED-TTL:PT1H
BEGIN:VTIMEZONE
TZID:America/Sao_Paulo
BEGIN:STANDARD
TZOFFSETFROM:-0300
TZOFFSETTO:-0300
TZNAME:-03
DTSTART:20240101T000000
END:STANDARD
END:VTIMEZONE
BEGIN:VEVENT
DTSTART;TZID=America/Sao_Paulo:20250712T130000
DTEND;TZID=America/Sao_Paulo:20250712T180000
DTSTAMP:20260419T122247
CREATED:20250708T170919Z
LAST-MODIFIED:20250708T172126Z
UID:19985-1752325200-1752343200@culturacatarina.com.br
SUMMARY:Roda de conversa debate políticas culturais no Planalto Norte de Santa Catarina
DESCRIPTION:Neste sábado\, 12 de julho\, o Instituto Federal de Santa Catarina – Câmpus Canoinhas – sedia a roda de conversa “Tecendo Teias de Políticas Culturais no Planalto Norte de Santa\nCatarina”\, promovida pelo projeto Agentes Territoriais de Cultura\, do Ministério da Cultura (MinC).\nO encontro será das 13h às 18h e é aberto ao público. Voltada à comunidade cultural da região de Mafra\, a atividade tem como objetivo capacitar artistas\, gestores\, grupos e coletivos para acessarem as políticas públicas culturais\, por meio da formação em editais\, estratégias de mobilização e articulação em rede. \n \nA programação contempla formações\, falas institucionais e relatos de experiências culturais com nomes de referência da cultura popular e comunitária no estado. \nEntre os destaques\, estão as formações:\n● “O Contestado e as Políticas Culturais em Santa Catarina: Trajetórias Históricas e Perspectivas”\, com Jilson Carlos Souza\, educador e comunicador popular atuante em frentes como a Rede Cultura Viva e a Associação Paulo Freire de Educação e Cultura Popular;\n● “Política de fomento com foco na base comunitária\, da Cultura Viva à Aldir Blanc”\, com Gilson Maximo\, artista\, griô aprendiz e coordenador do Pontão Catarina\, com 18 anos de atuação na Política Nacional Cultura Viva.\n● O encontro será mediado por Alith Moura de Freitas\, Agente Territorial de Cultura pelo MinC. \nA programação inclui ainda:\n● Fala Institucional sobre a gestão dos editais PNAB e Paulo Gustavo pela Fundação Cultural;\n● Relato de Experiência: Criatividade\, território e reciclagem\, com o artista multidisciplinar Artur Francisco Gonçalves Filho (Batuta Artista);\n● Relato de Experiência: Saberes da terra e reconhecimento cultural\, com Dona Iraci Rodrigues de Lara\, guardiã de saberes tradicionais e premiada pelo edital de expressões culturais dos povos indígenas\, quilombolas e tradicionais de SC;\n● Palavra de Dona Izanir\, uma das maiores lideranças caboclas vivas do estado\, que compartilha sua visão sobre território\, ancestralidade e resistência cultural. \nSERVIÇO\nO quê: Roda de Conversa “Tecendo Teias de Políticas Culturais no Planalto Norte de SC”\nQuando: 12 de julho de 2025 (sábado)\, das 13h às 18h. \nOnde: IFSC Câmpus Canoinhas – Av. Expedicionários\, 2150 – Campo da Água Verde\,\nCanoinhas/SC. \nEntrada gratuita \nMais informações: @alithmouradefreitas (55) 98421-5793
URL:https://culturacatarina.com.br/agenda/roda-de-conversa-debate-politicas-culturais-no-planalto-norte-de-santa-catarina/
LOCATION:IFSC Canoinhas\, Av. Expedicionários\, 2150\, Canoinhas\, Santa Catarina\, 89460000\, Brazil
END:VEVENT
END:VCALENDAR