BEGIN:VCALENDAR
VERSION:2.0
PRODID:-//Cultura Catarina - ECPv6.15.20//NONSGML v1.0//EN
CALSCALE:GREGORIAN
METHOD:PUBLISH
X-WR-CALNAME:Cultura Catarina
X-ORIGINAL-URL:https://culturacatarina.com.br
X-WR-CALDESC:Eventos para Cultura Catarina
REFRESH-INTERVAL;VALUE=DURATION:PT1H
X-Robots-Tag:noindex
X-PUBLISHED-TTL:PT1H
BEGIN:VTIMEZONE
TZID:America/Sao_Paulo
BEGIN:STANDARD
TZOFFSETFROM:-0300
TZOFFSETTO:-0300
TZNAME:-03
DTSTART:20240101T000000
END:STANDARD
END:VTIMEZONE
BEGIN:VEVENT
DTSTART;TZID=America/Sao_Paulo:20251018T100000
DTEND;TZID=America/Sao_Paulo:20251018T180000
DTSTAMP:20260419T071424
CREATED:20251016T135442Z
LAST-MODIFIED:20251016T165021Z
UID:20419-1760781600-1760810400@culturacatarina.com.br
SUMMARY:Atenção\, Pontos de Cultura Grande Florianópolis: Encontro Regional acontece dia 18/10 – Participe!
DESCRIPTION:Está chegando um momento especial para a cultura de base comunitária da nossa região! \nNo dia 18 de outubro (sábado)\,  será realizado o Encontro Regional dos Pontos de Cultura Grande Florianópolis\, na Casa da Cultura “Nésia Melo da Silveira”\, em São José\, um dia inteiro dedicado à formação\, trocas de experiências e articulação. \nSe você faz parte de um Ponto de Cultura\, atua na gestão cultural ou acredita na força da cultura comunitária\, esse encontro é pra você!  \nA ação\, que inicia as 10h e finaliza as 18h\, tem como principais focos a integração e formação dos Pontos de Cultura da região da Grande Florianópolis\, com intuito de fortalecer a Política Nacional Cultura Viva e a Cultura de base comunitária. \nA programação será rica em conteúdos formativos\, diálogos e celebrações da diversidade cultural local: \nFormações e Diálogos: \n\nPolíticas Culturais Vigentes no Brasil e Santa Catarina\, com Fernando Scherer. A atividade propõe dar uma panorama sobre as políticas culturais vigentes no país e estado\, abordando os principais marcos legais\, programas\, políticas e instrumentos de participação social que estruturam o campo cultural. O encontro busca contextualizar o papel das políticas públicas na garantia dos direitos culturais\, discutir desafios atuais e apresentar caminhos de fortalecimento das iniciativas locais e regionais.\n\n\nAtividade Formativa – Política Nacional Cultura Viva\, com Catarina Kinas.  A ação terá como foco a Política Nacional Cultura Viva\, destacando a Lei Cultura Viva\, a cultura de base comunitária e os processos de certificação dos Pontos de Cultura. Também apresentará a atuação da Rede Cultura Viva em Santa Catarina e suas articulações\, finalizando com os diálogos da política com a Política Nacional Aldir Blanc (PNAB) como expansão e continuidade de suas conquistas.\n\n\nRoda de Conversa – Entre Pontões e Pontos de Cultura da Grande Florianópolis com os Pontões Percursos Litorâneos (@percursolitoraneo.sc) e Usina da Imaginação (@usinadaimaginacao)\n\nA programação contará com apresentações artísticas de Tom Bueno\, Grapixo e do Bloco Vento Sul. \nEste é um espaço fundamental para fortalecer a Rede Cultura Viva\, ampliar diálogos e construir caminhos coletivos para as ações culturais em nossos territórios. \nSua participação é essencial para seguirmos construindo uma cultura viva\, diversa e enraizada nas comunidades. \nA Caravana é uma ação desenvolvida pelo Comité de Cultura com apoio do Conselho Municipal de Cultura e a Prefeitura de São José. \nE convidamos você a se inscrever e participar através do link: Caravana: Encontro “Política Nacional Cultura Viva” na Grande Florianópolis \nConfira aqui a programação:  \n📅 Dia: sábado 18 de Outubro. 10h.\n📍 Local: Casa da Cultura “Nésia Melo Da Silveira” São José – Grande Florianópolis. 104\, R. Padre Macário\, 64 – Centro\, São José – SC\, 88103-020\n📲 Aberto ao público através das inscrições – participe\, troque experiências e celebre a cultura viva de Santa Catarina! Vamos juntos fortalecer nossa rede de pontos de Cultura da Grande Florianópolis!\nPor Ani Castrellón – Comunicação do Comitê de Cultura SC.\n\n  \n  \n  \n  \n 
URL:https://culturacatarina.com.br/agenda/atencao-pontos-de-cultura-grande-florianopolis-encontro-regional-acontece-dia-18-10-participe/
LOCATION:Casa da Cultura “Nésia Melo Da Silveira”\, R. Padre Macário\, 64\, São José\, 88103020\, Brazil
CATEGORIES:Eventos,Formações
ATTACH;FMTTYPE=image/jpeg:https://culturacatarina.com.br/wp-content/uploads/2025/10/f7894428-a215-4b08-8341-fbf704f79787.jpg
END:VEVENT
END:VCALENDAR