BEGIN:VCALENDAR
VERSION:2.0
PRODID:-//Cultura Catarina - ECPv6.15.20//NONSGML v1.0//EN
CALSCALE:GREGORIAN
METHOD:PUBLISH
X-WR-CALNAME:Cultura Catarina
X-ORIGINAL-URL:https://culturacatarina.com.br
X-WR-CALDESC:Eventos para Cultura Catarina
REFRESH-INTERVAL;VALUE=DURATION:PT1H
X-Robots-Tag:noindex
X-PUBLISHED-TTL:PT1H
BEGIN:VTIMEZONE
TZID:America/Sao_Paulo
BEGIN:STANDARD
TZOFFSETFROM:-0300
TZOFFSETTO:-0300
TZNAME:-03
DTSTART:20240101T000000
END:STANDARD
END:VTIMEZONE
BEGIN:VEVENT
DTSTART;TZID=America/Sao_Paulo:20250411T200000
DTEND;TZID=America/Sao_Paulo:20250523T213000
DTSTAMP:20260422T020321
CREATED:20250419T142615Z
LAST-MODIFIED:20250419T142615Z
UID:2477-1744401600-1748035800@culturacatarina.com.br
SUMMARY:Ciclo de atividades do Abril Indígena
DESCRIPTION:Todas as sextas das 20:00 às 21:30 estaremos dançando\, tocando e falando sobre as matrizes originárias e sua influência na cultura popular brasileira entre tantos outros aspectos\, lembrando que o acesso à essas atividades é livre.\nBasta apenas chamar no direct e confirmar presença\, esperamos vcs!
URL:https://culturacatarina.com.br/agenda/ciclo-de-atividades-do-abril-indigena/
LOCATION:Coletivo NOA\, R. Rosa Luíza Goudard de Araújo\, 264 - Jardim Paraíso\, Joinville\, Santa Catarina\, 89226-512\, Brazil
CATEGORIES:Eventos
END:VEVENT
BEGIN:VEVENT
DTSTART;VALUE=DATE:20250414
DTEND;VALUE=DATE:20250420
DTSTAMP:20260422T020321
CREATED:20250419T141833Z
LAST-MODIFIED:20250419T142733Z
UID:2474-1744588800-1745107199@culturacatarina.com.br
SUMMARY:21ª semana cultural da escola Itaty
DESCRIPTION:Começou HOJE (14/04) 21ª semana cultural da escola Itaty\, na Terra Indígena Morro dos Cavalos\, palhoça em Santa Catarina.\nCom o tema Yvy Rupa Mbaraete Tenonde Rã\, trás o propósito de fortalecer nosso território para o futuro.\nEsse ano temos muito a contar sobre nosso território\, que tivemos a conclusão do processo demarcatório com os eventos de homologação e registro da terra no município de Palhoça.\nE nossa atividades são marcadas com cantos\, rezas\, artes\, jogos\, pinturas corporais\, alimento sagrado e muitas outras atividades.\nTraga sua escola para fazer essa vivência e mergulhar no universo indígena\, grupos\, amigos e famílias\, tem espaço para todo mundo.\nDurante toda semana haverá exposição e venda do nosso artesanato.\nMais informações e agendamento pelo contato WhatsApp do card da programação.
URL:https://culturacatarina.com.br/agenda/21a-semana-cultural-da-escola-itaty/
LOCATION:Terra Indígena Morro dos Cavalos\, BR-101\, km 233\, Enseada de Brito\, Palhoça\, Santa Catarina\, 88138-788\, Brazil
CATEGORIES:Eventos
END:VEVENT
BEGIN:VEVENT
DTSTART;VALUE=DATE:20250416
DTEND;VALUE=DATE:20250417
DTSTAMP:20260422T020321
CREATED:20250419T144236Z
LAST-MODIFIED:20250419T144259Z
UID:2483-1744761600-1744847999@culturacatarina.com.br
SUMMARY:Cine Outubro - Abril Indígena
DESCRIPTION:🎬 Cineclube Outubro convida! \nNão perca a nossa próxima sessão no dia 16 de abril\, às 19h\, no CEU do Aventureiro! 🌙✨ \nVamos exibir dois curta-metragens que revisitam a força\, a resistência e a luta dos povos originários: \n🎞️ Aldear a Política (2025)\nde Weuler Azara e Vinicius Pinto Gomes \nSinopse: “Aldear a Política” acompanha a trajetória de Andenice Fiamoncini\, Joziléia Kaingang\, Ingrid Sateré Mawé e Kerexu Yxapyry\, na luta por reconhecimento e proteção de seus territórios. Ambientado pela Terceira Marcha das Mulheres Indígenas\, o filme revela como elas enfrentam desafios históricos e buscam conquistar espaço nas esferas políticas de Santa Catarina e do Brasil\, em uma poderosa celebração de resistência e representatividade. \n🎞️ Javyju – Bom Dia (2024)\nde Kunha Reta e Carlos Eduardo Magalhães \nSinopse: Em um futuro próximo\, a terra foi devastada. Os povos indígenas sobreviveram em seus territórios graças à proteção dos encantados. Na antiga São Paulo\, a aldeia Guarani do Jaraguá é uma das sobreviventes e recebe uma mensagem de esperança por um sonho. O Pajé da aldeia convoca três jovens para uma viagem à cidade vazia atrás de respostas. \nApós a exibição\, abriremos um espaço para debate e troca de ideias. 💬🔥 \nEsperamos por você! 💛
URL:https://culturacatarina.com.br/agenda/cine-outubro-abril-indigena/
LOCATION:CineClube Outubro\, R. Theonesto Westrupp\, 627 - Aventureiro\, Joinville\, Santa Catarina\, 89226340\, Brazil
CATEGORIES:Eventos
END:VEVENT
END:VCALENDAR