BEGIN:VCALENDAR
VERSION:2.0
PRODID:-//Cultura Catarina - ECPv6.15.20//NONSGML v1.0//EN
CALSCALE:GREGORIAN
METHOD:PUBLISH
X-ORIGINAL-URL:https://culturacatarina.com.br
X-WR-CALDESC:Eventos para Cultura Catarina
REFRESH-INTERVAL;VALUE=DURATION:PT1H
X-Robots-Tag:noindex
X-PUBLISHED-TTL:PT1H
BEGIN:VTIMEZONE
TZID:America/Sao_Paulo
BEGIN:STANDARD
TZOFFSETFROM:-0300
TZOFFSETTO:-0300
TZNAME:-03
DTSTART:20240101T000000
END:STANDARD
END:VTIMEZONE
BEGIN:VEVENT
DTSTART;TZID=America/Sao_Paulo:20250920T140000
DTEND;TZID=America/Sao_Paulo:20250920T170000
DTSTAMP:20260421T180457
CREATED:20250918T173434Z
LAST-MODIFIED:20250918T173434Z
UID:20345-1758376800-1758387600@culturacatarina.com.br
SUMMARY:Lançamento do 2º Painel do Mini Museu Indígena da Cultura Viva Ancestral Goj Ta Sá
DESCRIPTION:Agenda Cultural do Fim de Semana\, no Território Indígena no coração de Floripa! Bora chegar junto para fortalecer ✊🏼🏹 \n🌿✨ Lançamento do 2º Painel do Mini Museu Indígena da Cultura Viva Ancestral Goj Ta Sá ✨🌿 \nNo próximo sábado\, 20/09\, às 14h\, acontecerá o lançamento do 2º Painel do Museu Indígena da Cultura Viva Ancestral Goj Ta Sa\, durante a Feira da Resistência Indígena\, na Casa de Passagem e Ponto de Cultura Goj Ta Sa. \nEste novo painel traz reflexões sobre a ancestralidade e a presença indígena em Santa Catarina\, e será apresentado em um momento de contação das histórias conduzido por três lideranças indígenas dos três povos que possuem terras demarcadas no Estado: \n🪶 Marcelo – Povo Guarani Mbya\n🪶 Woia – Povo Laklano Xokleng\n🪶 Sadraque – Povo Kaingang \nSerá um encontro histórico de memória\, resistência e cultura viva\, marcado pela voz e sabedoria dos povos originários! \n👉 Venha participar e fortalecer este momento de valorização da história\, presença e cultura dos povos indígenas de Santa Catarina. \n📍 Local: Casa de Passagem e Ponto de Cultura Goj Ta Sa\n📅 Data: sábado\, 20 de setembro \n⏰ Horário: 14h
URL:https://culturacatarina.com.br/agenda/lancamento-do-2o-painel-do-mini-museu-indigena-da-cultura-viva-ancestral-goj-ta-sa/
LOCATION:Territorio indigena Goj Ta Sa\, Av. Pref. Waldemar Vieira\, 848 – Saco dos Limões\, Florianópolis\, Santa Catarina\, 88045-500\, Brazil
CATEGORIES:Eventos
END:VEVENT
END:VCALENDAR